BEGIN:VCALENDAR
VERSION:2.0
PRODID:-// - ECPv6.8.3//NONSGML v1.0//EN
CALSCALE:GREGORIAN
METHOD:PUBLISH
X-ORIGINAL-URL:https://musikverein-hoechst.de
X-WR-CALDESC:Veranstaltungen für 
REFRESH-INTERVAL;VALUE=DURATION:PT1H
X-Robots-Tag:noindex
X-PUBLISHED-TTL:PT1H
BEGIN:VTIMEZONE
TZID:Europe/Berlin
BEGIN:DAYLIGHT
TZOFFSETFROM:+0100
TZOFFSETTO:+0200
TZNAME:CEST
DTSTART:20250330T010000
END:DAYLIGHT
BEGIN:STANDARD
TZOFFSETFROM:+0200
TZOFFSETTO:+0100
TZNAME:CET
DTSTART:20251026T010000
END:STANDARD
END:VTIMEZONE
BEGIN:VEVENT
DTSTART;TZID=Europe/Berlin:20250329T190000
DTEND;TZID=Europe/Berlin:20250329T233000
DTSTAMP:20260425T213109
CREATED:20240416T080400Z
LAST-MODIFIED:20240416T080400Z
UID:171-1743274800-1743291000@musikverein-hoechst.de
SUMMARY:2. Hüttengaudi
DESCRIPTION:
URL:https://musikverein-hoechst.de/termin/2-huettengaudi/
LOCATION:Dorfgemeinschaftshaus\, Hauptstraße 1\, Gelnhausen-Höchst\, 63571\, Deutschland
END:VEVENT
END:VCALENDAR