BEGIN:VCALENDAR
VERSION:2.0
PRODID:-// - ECPv6.8.3//NONSGML v1.0//EN
CALSCALE:GREGORIAN
METHOD:PUBLISH
X-ORIGINAL-URL:https://musikverein-hoechst.de
X-WR-CALDESC:Veranstaltungen für 
REFRESH-INTERVAL;VALUE=DURATION:PT1H
X-Robots-Tag:noindex
X-PUBLISHED-TTL:PT1H
BEGIN:VTIMEZONE
TZID:Europe/Berlin
BEGIN:DAYLIGHT
TZOFFSETFROM:+0100
TZOFFSETTO:+0200
TZNAME:CEST
DTSTART:20240331T010000
END:DAYLIGHT
BEGIN:STANDARD
TZOFFSETFROM:+0200
TZOFFSETTO:+0100
TZNAME:CET
DTSTART:20241027T010000
END:STANDARD
END:VTIMEZONE
BEGIN:VEVENT
DTSTART;TZID=Europe/Berlin:20241213T180000
DTEND;TZID=Europe/Berlin:20241213T200000
DTSTAMP:20260425T180202
CREATED:20240416T080304Z
LAST-MODIFIED:20240416T080304Z
UID:168-1734112800-1734120000@musikverein-hoechst.de
SUMMARY:Weihnachtsmarkt Gelnhausen
DESCRIPTION:
URL:https://musikverein-hoechst.de/termin/weihnachtsmarkt-gelnhausen/
LOCATION:Altstadt Gelnhausen\, Am Obermarkt\, Gelnhausen\, 63571\, Deutschland
END:VEVENT
BEGIN:VEVENT
DTSTART;TZID=Europe/Berlin:20241222T140000
DTEND;TZID=Europe/Berlin:20241222T200000
DTSTAMP:20260425T180202
CREATED:20240415T075202Z
LAST-MODIFIED:20240415T075611Z
UID:57-1734876000-1734897600@musikverein-hoechst.de
SUMMARY:Adventsspielen
DESCRIPTION:
URL:https://musikverein-hoechst.de/termin/adventsspielen/
LOCATION:Dorfbrunnen\, Hauptstraße 17\, Gelnhausen-Höchst\, 63571\, Deutschland
END:VEVENT
END:VCALENDAR