BEGIN:VCALENDAR
VERSION:2.0
PRODID:-// - ECPv6.8.3//NONSGML v1.0//EN
CALSCALE:GREGORIAN
METHOD:PUBLISH
X-ORIGINAL-URL:https://musikverein-hoechst.de
X-WR-CALDESC:Veranstaltungen für 
REFRESH-INTERVAL;VALUE=DURATION:PT1H
X-Robots-Tag:noindex
X-PUBLISHED-TTL:PT1H
BEGIN:VTIMEZONE
TZID:Europe/Berlin
BEGIN:DAYLIGHT
TZOFFSETFROM:+0100
TZOFFSETTO:+0200
TZNAME:CEST
DTSTART:20240331T010000
END:DAYLIGHT
BEGIN:STANDARD
TZOFFSETFROM:+0200
TZOFFSETTO:+0100
TZNAME:CET
DTSTART:20241027T010000
END:STANDARD
END:VTIMEZONE
BEGIN:VEVENT
DTSTART;TZID=Europe/Berlin:20240811T130000
DTEND;TZID=Europe/Berlin:20240811T140000
DTSTAMP:20260423T102402
CREATED:20240416T074253Z
LAST-MODIFIED:20240416T074253Z
UID:141-1723381200-1723384800@musikverein-hoechst.de
SUMMARY:Kier Oberndorf
DESCRIPTION:
URL:https://musikverein-hoechst.de/termin/kier-oberndorf/
LOCATION:Festplatz Oberndorf\, Orber Gasse\, Jossgrund-Oberndorf\, 63637\, Deutschland
END:VEVENT
BEGIN:VEVENT
DTSTART;TZID=Europe/Berlin:20240818T100000
DTEND;TZID=Europe/Berlin:20240818T113000
DTSTAMP:20260423T102402
CREATED:20240416T074607Z
LAST-MODIFIED:20240416T074607Z
UID:144-1723975200-1723980600@musikverein-hoechst.de
SUMMARY:Frühkonzert Bad Soden
DESCRIPTION:
URL:https://musikverein-hoechst.de/termin/fruehkonzert-bad-soden/
LOCATION:Spessart FORUM Kultur\, Frowin-von-Hutten-Straße 5\, Bad Soden-Salmünster\, 63628
END:VEVENT
BEGIN:VEVENT
DTSTART;TZID=Europe/Berlin:20240825T131500
DTEND;TZID=Europe/Berlin:20240825T150000
DTSTAMP:20260423T102402
CREATED:20240416T075400Z
LAST-MODIFIED:20240416T075451Z
UID:154-1724591700-1724598000@musikverein-hoechst.de
SUMMARY:Vereinshausfest Euterpe Niedermittlau
DESCRIPTION:
URL:https://musikverein-hoechst.de/termin/vereinshausfest-euterpe-niedermittlau/
LOCATION:Vereinsheim des MV Euterpe\, Niedermittlau\, 63594\, Deutschland
END:VEVENT
END:VCALENDAR