BEGIN:VCALENDAR
VERSION:2.0
PRODID:-// - ECPv6.8.3//NONSGML v1.0//EN
CALSCALE:GREGORIAN
METHOD:PUBLISH
X-ORIGINAL-URL:https://musikverein-hoechst.de
X-WR-CALDESC:Veranstaltungen für 
REFRESH-INTERVAL;VALUE=DURATION:PT1H
X-Robots-Tag:noindex
X-PUBLISHED-TTL:PT1H
BEGIN:VTIMEZONE
TZID:Europe/Berlin
BEGIN:DAYLIGHT
TZOFFSETFROM:+0100
TZOFFSETTO:+0200
TZNAME:CEST
DTSTART:20240331T010000
END:DAYLIGHT
BEGIN:STANDARD
TZOFFSETFROM:+0200
TZOFFSETTO:+0100
TZNAME:CET
DTSTART:20241027T010000
END:STANDARD
BEGIN:DAYLIGHT
TZOFFSETFROM:+0100
TZOFFSETTO:+0200
TZNAME:CEST
DTSTART:20250330T010000
END:DAYLIGHT
BEGIN:STANDARD
TZOFFSETFROM:+0200
TZOFFSETTO:+0100
TZNAME:CET
DTSTART:20251026T010000
END:STANDARD
END:VTIMEZONE
BEGIN:VEVENT
DTSTART;TZID=Europe/Berlin:20251122T190000
DTEND;TZID=Europe/Berlin:20251122T233000
DTSTAMP:20260422T162406
CREATED:20250429T105855Z
LAST-MODIFIED:20250429T105855Z
UID:391-1763838000-1763854200@musikverein-hoechst.de
SUMMARY:Jahreskonzert 2025
DESCRIPTION:
URL:https://musikverein-hoechst.de/termin/jahreskonzert-2025/
LOCATION:Turnhalle in der Igelsgrundschule Höchst\, Schulstraße 11\, Gelnhausen-Höchst\, 63571\, Germany
END:VEVENT
BEGIN:VEVENT
DTSTART;TZID=Europe/Berlin:20250914T140000
DTEND;TZID=Europe/Berlin:20250914T140000
DTSTAMP:20260422T162406
CREATED:20250429T110017Z
LAST-MODIFIED:20250429T110017Z
UID:413-1757858400-1757858400@musikverein-hoechst.de
SUMMARY:Wendelinusfest 2025
DESCRIPTION:
URL:https://musikverein-hoechst.de/termin/wendelinusfest-2025/
END:VEVENT
BEGIN:VEVENT
DTSTART;TZID=Europe/Berlin:20250817T100000
DTEND;TZID=Europe/Berlin:20250817T120000
DTSTAMP:20260422T162406
CREATED:20250429T105919Z
LAST-MODIFIED:20250429T105919Z
UID:389-1755424800-1755432000@musikverein-hoechst.de
SUMMARY:Frühkonzert Bad Soden
DESCRIPTION:
URL:https://musikverein-hoechst.de/termin/fruehkonzert-bad-soden-2/
LOCATION:Spessart FORUM Kultur\, Frowin-von-Hutten-Straße 5\, Bad Soden-Salmünster\, 63628
END:VEVENT
BEGIN:VEVENT
DTSTART;TZID=Europe/Berlin:20250719T130000
DTEND;TZID=Europe/Berlin:20250719T190000
DTSTAMP:20260422T162406
CREATED:20250429T105906Z
LAST-MODIFIED:20250429T105906Z
UID:387-1752930000-1752951600@musikverein-hoechst.de
SUMMARY:Pfaffehäiser Kier
DESCRIPTION:
URL:https://musikverein-hoechst.de/termin/pfaffehaeiser-kier/
LOCATION:Festzelt Pfaffenhausen\, Austraße\, Jossgrund-Pfaffenhausen\, 63637\, Deutschland
END:VEVENT
BEGIN:VEVENT
DTSTART;TZID=Europe/Berlin:20250628T150000
DTEND;TZID=Europe/Berlin:20250628T170000
DTSTAMP:20260422T162406
CREATED:20250429T105928Z
LAST-MODIFIED:20250429T105928Z
UID:385-1751122800-1751130000@musikverein-hoechst.de
SUMMARY:Backfest Höchst 2025
DESCRIPTION:
URL:https://musikverein-hoechst.de/termin/backfest-hoechst-2025/
LOCATION:Backhaus\, Hauptstraße 23\, Gelnhausen-Höchst\, 63571\, Deutschland
END:VEVENT
BEGIN:VEVENT
DTSTART;TZID=Europe/Berlin:20250615T120000
DTEND;TZID=Europe/Berlin:20250615T130000
DTSTAMP:20260422T162406
CREATED:20250429T110504Z
LAST-MODIFIED:20250429T110504Z
UID:415-1749988800-1749992400@musikverein-hoechst.de
SUMMARY:Bezirksmusikfest Kassel
DESCRIPTION:
URL:https://musikverein-hoechst.de/termin/bezirksmusikfest-kassel/
LOCATION:Sportplatz Biebergemünd-Kassel
END:VEVENT
BEGIN:VEVENT
DTSTART;TZID=Europe/Berlin:20250608T103000
DTEND;TZID=Europe/Berlin:20250608T123000
DTSTAMP:20260422T162406
CREATED:20250429T110605Z
LAST-MODIFIED:20250429T110605Z
UID:418-1749378600-1749385800@musikverein-hoechst.de
SUMMARY:Frühschoppen auf der Höchster Kerb 2025
DESCRIPTION:
URL:https://musikverein-hoechst.de/termin/fruehschoppen-auf-der-hoechster-kerb-2025/
LOCATION:Dorfgemeinschaftshaus\, Hauptstraße 1\, Gelnhausen-Höchst\, 63571\, Deutschland
END:VEVENT
BEGIN:VEVENT
DTSTART;TZID=Europe/Berlin:20250529T140000
DTEND;TZID=Europe/Berlin:20250529T160000
DTSTAMP:20260422T162406
CREATED:20250429T110745Z
LAST-MODIFIED:20250429T110745Z
UID:420-1748527200-1748534400@musikverein-hoechst.de
SUMMARY:Musik am Vatertag
DESCRIPTION:
URL:https://musikverein-hoechst.de/termin/musik-am-vatertag/
LOCATION:Altstadtparkplatz Büdingen
END:VEVENT
BEGIN:VEVENT
DTSTART;TZID=Europe/Berlin:20250518T123000
DTEND;TZID=Europe/Berlin:20250518T140000
DTSTAMP:20260422T162406
CREATED:20250429T110936Z
LAST-MODIFIED:20250429T110936Z
UID:423-1747571400-1747576800@musikverein-hoechst.de
SUMMARY:65 Jahre Trachtenkapelle Weiperz
DESCRIPTION:
URL:https://musikverein-hoechst.de/termin/65-jahre-trachtenkapelle-weiperz/
END:VEVENT
BEGIN:VEVENT
DTSTART;TZID=Europe/Berlin:20250329T190000
DTEND;TZID=Europe/Berlin:20250329T233000
DTSTAMP:20260422T162406
CREATED:20240416T080400Z
LAST-MODIFIED:20240416T080400Z
UID:171-1743274800-1743291000@musikverein-hoechst.de
SUMMARY:2. Hüttengaudi
DESCRIPTION:
URL:https://musikverein-hoechst.de/termin/2-huettengaudi/
LOCATION:Dorfgemeinschaftshaus\, Hauptstraße 1\, Gelnhausen-Höchst\, 63571\, Deutschland
END:VEVENT
BEGIN:VEVENT
DTSTART;TZID=Europe/Berlin:20241222T140000
DTEND;TZID=Europe/Berlin:20241222T200000
DTSTAMP:20260422T162406
CREATED:20240415T075202Z
LAST-MODIFIED:20240415T075611Z
UID:57-1734876000-1734897600@musikverein-hoechst.de
SUMMARY:Adventsspielen
DESCRIPTION:
URL:https://musikverein-hoechst.de/termin/adventsspielen/
LOCATION:Dorfbrunnen\, Hauptstraße 17\, Gelnhausen-Höchst\, 63571\, Deutschland
END:VEVENT
BEGIN:VEVENT
DTSTART;TZID=Europe/Berlin:20241213T180000
DTEND;TZID=Europe/Berlin:20241213T200000
DTSTAMP:20260422T162406
CREATED:20240416T080304Z
LAST-MODIFIED:20240416T080304Z
UID:168-1734112800-1734120000@musikverein-hoechst.de
SUMMARY:Weihnachtsmarkt Gelnhausen
DESCRIPTION:
URL:https://musikverein-hoechst.de/termin/weihnachtsmarkt-gelnhausen/
LOCATION:Altstadt Gelnhausen\, Am Obermarkt\, Gelnhausen\, 63571\, Deutschland
END:VEVENT
BEGIN:VEVENT
DTSTART;TZID=Europe/Berlin:20241117T100000
DTEND;TZID=Europe/Berlin:20241117T120000
DTSTAMP:20260422T162406
CREATED:20240416T080035Z
LAST-MODIFIED:20240416T080035Z
UID:166-1731837600-1731844800@musikverein-hoechst.de
SUMMARY:Volkstrauertag
DESCRIPTION:
URL:https://musikverein-hoechst.de/termin/volkstrauertag/
END:VEVENT
BEGIN:VEVENT
DTSTART;TZID=Europe/Berlin:20241109T200000
DTEND;TZID=Europe/Berlin:20241109T230000
DTSTAMP:20260422T162406
CREATED:20240415T075053Z
LAST-MODIFIED:20240415T075053Z
UID:55-1731182400-1731193200@musikverein-hoechst.de
SUMMARY:Jahreskonzert "Hollywood in Höchst"
DESCRIPTION:
URL:https://musikverein-hoechst.de/termin/jahreskonzert-hollywood-in-hoechst/
END:VEVENT
BEGIN:VEVENT
DTSTART;TZID=Europe/Berlin:20241013T120000
DTEND;TZID=Europe/Berlin:20241013T130000
DTSTAMP:20260422T162406
CREATED:20240416T075959Z
LAST-MODIFIED:20240416T075959Z
UID:163-1728820800-1728824400@musikverein-hoechst.de
SUMMARY:Oktoberfest Westerngrund
DESCRIPTION:
URL:https://musikverein-hoechst.de/termin/oktoberfest-westerngrund/
LOCATION:Festplatz Westerngrund\, Westerngrund\, 63825
END:VEVENT
BEGIN:VEVENT
DTSTART;TZID=Europe/Berlin:20240929T110000
DTEND;TZID=Europe/Berlin:20240929T140000
DTSTAMP:20260422T162406
CREATED:20240416T075814Z
LAST-MODIFIED:20240416T075814Z
UID:160-1727607600-1727618400@musikverein-hoechst.de
SUMMARY:Weißwurstfrühstück THW Gelnhausen
DESCRIPTION:
URL:https://musikverein-hoechst.de/termin/weisswurstfruehstueck-thw-gelnhausen/
LOCATION:THW OV Gelnhausen\, Cassebeerstraße 9\, Gelnhausen\, 63571\, Deutschland
END:VEVENT
BEGIN:VEVENT
DTSTART;TZID=Europe/Berlin:20240908T070000
DTEND;TZID=Europe/Berlin:20240908T190000
DTSTAMP:20260422T162406
CREATED:20240416T075634Z
LAST-MODIFIED:20240416T075634Z
UID:157-1725778800-1725822000@musikverein-hoechst.de
SUMMARY:Kinzigtal Total 2024
DESCRIPTION:
URL:https://musikverein-hoechst.de/termin/kinzigtal-total-2024/
LOCATION:Main-Kinzig-Forum\, Barbarossastraße 24\, Gelnhausen\, 63571
END:VEVENT
BEGIN:VEVENT
DTSTART;TZID=Europe/Berlin:20240825T131500
DTEND;TZID=Europe/Berlin:20240825T150000
DTSTAMP:20260422T162406
CREATED:20240416T075400Z
LAST-MODIFIED:20240416T075451Z
UID:154-1724591700-1724598000@musikverein-hoechst.de
SUMMARY:Vereinshausfest Euterpe Niedermittlau
DESCRIPTION:
URL:https://musikverein-hoechst.de/termin/vereinshausfest-euterpe-niedermittlau/
LOCATION:Vereinsheim des MV Euterpe\, Niedermittlau\, 63594\, Deutschland
END:VEVENT
BEGIN:VEVENT
DTSTART;TZID=Europe/Berlin:20240818T100000
DTEND;TZID=Europe/Berlin:20240818T113000
DTSTAMP:20260422T162406
CREATED:20240416T074607Z
LAST-MODIFIED:20240416T074607Z
UID:144-1723975200-1723980600@musikverein-hoechst.de
SUMMARY:Frühkonzert Bad Soden
DESCRIPTION:
URL:https://musikverein-hoechst.de/termin/fruehkonzert-bad-soden/
LOCATION:Spessart FORUM Kultur\, Frowin-von-Hutten-Straße 5\, Bad Soden-Salmünster\, 63628
END:VEVENT
BEGIN:VEVENT
DTSTART;TZID=Europe/Berlin:20240811T130000
DTEND;TZID=Europe/Berlin:20240811T140000
DTSTAMP:20260422T162406
CREATED:20240416T074253Z
LAST-MODIFIED:20240416T074253Z
UID:141-1723381200-1723384800@musikverein-hoechst.de
SUMMARY:Kier Oberndorf
DESCRIPTION:
URL:https://musikverein-hoechst.de/termin/kier-oberndorf/
LOCATION:Festplatz Oberndorf\, Orber Gasse\, Jossgrund-Oberndorf\, 63637\, Deutschland
END:VEVENT
BEGIN:VEVENT
DTSTART;TZID=Europe/Berlin:20240720T130000
DTEND;TZID=Europe/Berlin:20240720T230000
DTSTAMP:20260422T162406
CREATED:20240416T074122Z
LAST-MODIFIED:20240416T074122Z
UID:138-1721480400-1721516400@musikverein-hoechst.de
SUMMARY:Pfaffenhäiser Kier
DESCRIPTION:
URL:https://musikverein-hoechst.de/termin/pfaffenhaeiser-kier/
LOCATION:Festzelt Pfaffenhausen\, Austraße\, Jossgrund-Pfaffenhausen\, 63637\, Deutschland
END:VEVENT
BEGIN:VEVENT
DTSTART;TZID=Europe/Berlin:20240629T150000
DTEND;TZID=Europe/Berlin:20240629T170000
DTSTAMP:20260422T162406
CREATED:20240415T074914Z
LAST-MODIFIED:20240415T074914Z
UID:52-1719673200-1719680400@musikverein-hoechst.de
SUMMARY:Backfest
DESCRIPTION:
URL:https://musikverein-hoechst.de/termin/backfest/
LOCATION:Backhaus\, Hauptstraße 23\, Gelnhausen-Höchst\, 63571\, Deutschland
END:VEVENT
BEGIN:VEVENT
DTSTART;TZID=Europe/Berlin:20240613T180000
DTEND;TZID=Europe/Berlin:20240613T193000
DTSTAMP:20260422T162406
CREATED:20240415T074323Z
LAST-MODIFIED:20240415T074335Z
UID:50-1718301600-1718307000@musikverein-hoechst.de
SUMMARY:Schnupperabend Musikverein Höchst e.V.
DESCRIPTION:
URL:https://musikverein-hoechst.de/termin/schnupperabend-musikverein-hoechst-e-v/
LOCATION:Dorfgemeinschaftshaus\, Hauptstraße 1\, Gelnhausen-Höchst\, 63571\, Deutschland
END:VEVENT
BEGIN:VEVENT
DTSTART;TZID=Europe/Berlin:20240519T110000
DTEND;TZID=Europe/Berlin:20240519T130000
DTSTAMP:20260422T162406
CREATED:20240415T071938Z
LAST-MODIFIED:20240415T074123Z
UID:39-1716116400-1716123600@musikverein-hoechst.de
SUMMARY:Höchster Kerb
DESCRIPTION:
URL:https://musikverein-hoechst.de/termin/hoechster-kerb/
LOCATION:Dorfgemeinschaftshaus\, Hauptstraße 1\, Gelnhausen-Höchst\, 63571\, Deutschland
END:VEVENT
BEGIN:VEVENT
DTSTART;TZID=Europe/Berlin:20240512T150000
DTEND;TZID=Europe/Berlin:20240512T163000
DTSTAMP:20260422T162406
CREATED:20240415T072218Z
LAST-MODIFIED:20240415T072218Z
UID:41-1715526000-1715531400@musikverein-hoechst.de
SUMMARY:Kurkonzert Bad Orb
DESCRIPTION:
URL:https://musikverein-hoechst.de/termin/kurkonzert-bad-orb/
LOCATION:Musikpavillon im Kurpark\, Horststraße 1\, Bad Orb\, 63619\, Deutschland
END:VEVENT
END:VCALENDAR