BEGIN:VCALENDAR
VERSION:2.0
PRODID:-// - ECPv6.8.3//NONSGML v1.0//EN
CALSCALE:GREGORIAN
METHOD:PUBLISH
X-ORIGINAL-URL:https://musikverein-hoechst.de
X-WR-CALDESC:Veranstaltungen für 
REFRESH-INTERVAL;VALUE=DURATION:PT1H
X-Robots-Tag:noindex
X-PUBLISHED-TTL:PT1H
BEGIN:VTIMEZONE
TZID:Europe/Berlin
BEGIN:DAYLIGHT
TZOFFSETFROM:+0100
TZOFFSETTO:+0200
TZNAME:CEST
DTSTART:20240331T010000
END:DAYLIGHT
BEGIN:STANDARD
TZOFFSETFROM:+0200
TZOFFSETTO:+0100
TZNAME:CET
DTSTART:20241027T010000
END:STANDARD
END:VTIMEZONE
BEGIN:VEVENT
DTSTART;TZID=Europe/Berlin:20240929T110000
DTEND;TZID=Europe/Berlin:20240929T140000
DTSTAMP:20260425T144932
CREATED:20240416T075814Z
LAST-MODIFIED:20240416T075814Z
UID:160-1727607600-1727618400@musikverein-hoechst.de
SUMMARY:Weißwurstfrühstück THW Gelnhausen
DESCRIPTION:
URL:https://musikverein-hoechst.de/termin/weisswurstfruehstueck-thw-gelnhausen/
LOCATION:THW OV Gelnhausen\, Cassebeerstraße 9\, Gelnhausen\, 63571\, Deutschland
END:VEVENT
END:VCALENDAR